BEGIN:VCALENDAR
VERSION:2.0
PRODID:-//Centre Foundation - ECPv6.15.18//NONSGML v1.0//EN
CALSCALE:GREGORIAN
METHOD:PUBLISH
X-ORIGINAL-URL:https://centrefoundation.org
X-WR-CALDESC:Events for Centre Foundation
REFRESH-INTERVAL;VALUE=DURATION:PT1H
X-Robots-Tag:noindex
X-PUBLISHED-TTL:PT1H
BEGIN:VTIMEZONE
TZID:UTC
BEGIN:STANDARD
TZOFFSETFROM:+0000
TZOFFSETTO:+0000
TZNAME:UTC
DTSTART:20230101T000000
END:STANDARD
END:VTIMEZONE
BEGIN:VTIMEZONE
TZID:America/New_York
BEGIN:DAYLIGHT
TZOFFSETFROM:-0500
TZOFFSETTO:-0400
TZNAME:EDT
DTSTART:20240310T070000
END:DAYLIGHT
BEGIN:STANDARD
TZOFFSETFROM:-0400
TZOFFSETTO:-0500
TZNAME:EST
DTSTART:20241103T060000
END:STANDARD
BEGIN:DAYLIGHT
TZOFFSETFROM:-0500
TZOFFSETTO:-0400
TZNAME:EDT
DTSTART:20250309T070000
END:DAYLIGHT
BEGIN:STANDARD
TZOFFSETFROM:-0400
TZOFFSETTO:-0500
TZNAME:EST
DTSTART:20251102T060000
END:STANDARD
BEGIN:DAYLIGHT
TZOFFSETFROM:-0500
TZOFFSETTO:-0400
TZNAME:EDT
DTSTART:20260308T070000
END:DAYLIGHT
BEGIN:STANDARD
TZOFFSETFROM:-0400
TZOFFSETTO:-0500
TZNAME:EST
DTSTART:20261101T060000
END:STANDARD
END:VTIMEZONE
BEGIN:VEVENT
DTSTART;TZID=UTC:20241120T173000
DTEND;TZID=UTC:20241120T193000
DTSTAMP:20260422T140507
CREATED:20241108T200743Z
LAST-MODIFIED:20241113T213902Z
UID:10000003-1732123800-1732131000@centrefoundation.org
SUMMARY:Possibilities Unveiled: Centre Foundation’s Brand & Vision Launch 
DESCRIPTION: 
URL:https://centrefoundation.org/event/possibilities-unveiled-centre-foundations-brand-vision-launch/
LOCATION:Boal City Brewing\, 281 Old Boalsburg Rd\, Boalsburg\, PA\, Pennsylvania
CATEGORIES:Centre Foundation
ATTACH;FMTTYPE=image/webp:https://centrefoundation.org/wp-content/uploads/2024/11/Boal-City-Brewing-Event.webp
END:VEVENT
BEGIN:VEVENT
DTSTART;TZID=America/New_York:20250623T120000
DTEND;TZID=America/New_York:20250623T130000
DTSTAMP:20260422T140507
CREATED:20250611T201230Z
LAST-MODIFIED:20250611T205333Z
UID:10000006-1750680000-1750683600@centrefoundation.org
SUMMARY:Grant Information Session
DESCRIPTION:We are excited to host our Grant Information Session Webinar about all the competitive grant opportunities available through Centre Foundation during 2025.
URL:https://centrefoundation.org/event/grant-information-session/
CATEGORIES:Training
ATTACH;FMTTYPE=image/jpeg:https://centrefoundation.org/wp-content/uploads/2025/06/Picture1-scaled.jpg
ORGANIZER;CN="Krista Williams%2C Grants and Scholarships Coordinator":MAILTO:krista@centrefoundation.org
END:VEVENT
BEGIN:VEVENT
DTSTART;TZID=America/New_York:20250917T180000
DTEND;TZID=America/New_York:20250917T200000
DTSTAMP:20260422T140507
CREATED:20250910T154525Z
LAST-MODIFIED:20250911T183602Z
UID:10000007-1758132000-1758139200@centrefoundation.org
SUMMARY:Local Professionals: Sip & Socialize!
DESCRIPTION:
URL:https://centrefoundation.org/event/local-professionals-sip-socialize/
CATEGORIES:Centre Foundation
ATTACH;FMTTYPE=image/jpeg:https://centrefoundation.org/wp-content/uploads/2025/09/538811413_1344400987689720_6858079783436815224_n.jpg
END:VEVENT
END:VCALENDAR